Workbook

Sheet Hinweise
B2: Hinweise zum Tätigkeitsbericht der Koordinierungsstellen Migration und Teilhabe
B3: Die Umstellung des Tätigkeitsberichts auf ein Excel-Format mit Ankreuzfeldern und kurzen Eintragungsmöglichkeiten soll die Dokumentation im Rahmen des Verwendungsnachweises erleichtern und vereinheitlichen. Die dargestellten Inhalte bilden zugleich eine fachliche Grundlage für erforderliche Evaluierungen und dienen dem Nachweis der zweckentsprechenden Mittelverwendung im zuwendungsrechtlichen Sinne. Das standardisierte Format unterstützt gleichzeitig eine effiziente und transparente Auswertung durch die Bewilligungsbehörde. Durch die einheitliche Struktur wird ein gemeinsames Verständnis der Maßnahmeinhalte und -entwicklungen gefördert und eine sachgerechte, zügige Bearbeitung der Verwendungsnachweise ermöglicht.
B4: Bestandsaufnahme
B5: Die datenbasierte Bestandsaufnahme bildet die Grundlage für die Organisation der von Ihnen durchgeführten Tätigkeit einschließlich der Erstellung des Handlungskonzepts. Sie enthält Daten zu demographischen Veränderungen innerhalb der Bevölkerung mit Zuwanderungsgeschichte im jeweiligen Zuständigkeitsbereich. Im Gegensatz zum Handlungskonzept soll die Bestandsaufnahme jährlich aktualisiert werden. Als leicht zugängliche Quelle bietet sich das niedersächsische Integrationsmonitoring an:
B6: https://integrationsmonitoring.niedersachsen.de/
B7: Themenfelder im Handlungskonzept
B8: Die im Bereich Handlungskonzept aufgeführten Themenfelder sind beispielhafter und nicht abschließender Art. Es ist nicht erforderlich, dass Sie alle Auswahlmöglichkeiten ankreuzen. Vielmehr haben Sie die Möglichkeit, im Feld „Bemerkungen“ stichpunktartig darzustellen, wie die jeweiligen Themen vor Ort aufgegriffen werden und/oder welche Akteurinnen und Akteure für die Umsetzung zuständig sind. Darüber hinaus können Sie gerne in den vorgesehenen Feldern weitere relevante oder besonders herausfordernde Handlungsfelder benennen. Diese ergänzenden Angaben leisten einen wichtigen Beitrag zur Abbildung der Situation im Land Niedersachsen und dienen zugleich der bedarfsgerechten Weiterentwicklung und Stärkung der migrationsbezogenen Strukturen.
B9: Beteiligung
B10: Im Bereich der Beteiligung ist die Teilnahme an der Fachtagung, den Fortbildungen und der KMN-Sitzungen auszuwählen. Gemeint sind hier:
B11: Fachtagung
B12: Das Niedersächsische Ministerium für Soziales, Arbeit, Gesundheit und Gleichstellung (MS) initiiert jährlich eine Fachtagung. Im Mittelpunkt der Fachtagung stehen die gemeinsame Bestimmung besonders relevanter Fachthemen sowie aktueller Fortbildungsbedarfe.
B13: Fortbildung
... B21: Für Fragen stehen Ihnen die bekannten Ansprechpersonen aus dem Niedersächsischen Ministerium für Soziales, Arbeit, Gesundheit und Gleichstellung (MS) und dem Niedersächsischen Landesamt für Soziales, Jugend und Familie (Bewilligungsbehörde) gerne zur Verfügung.
D22: Version: 01.2026

Sheet Tätigkeitsbericht
B2: Anlage zum Verwendungsnachweis Tätigkeitsbericht der Koordinierungsstellen Migration und Teilhabe
D3: bitte eintragen:
B4: Gebietskörperschaft
D5: bitte eintragen:
B6: Bewilligungszeitraum
B8: Bestandsaufnahme
D9: bitte auswählen:
B10: Wurde die Bestandsaufnahme aus dem Vorjahr bis zum 31.12. aktualisiert?
B12: # ggfs. Erläuterungen bitte hier eintragen
B14: Handlungskonzept
D15: bitte auswählen:
B16: Wurde seit 2014 ein Handlungskonzept erstellt?
D17: bitte auswählen:
B18: Wurde seit 2014 ein Handlungskonzept fortgeschrieben?
D19: bitte auswählen:
B20: Innerhalb des Bewilligungszeitraumes wurde das Handlungskonzept
D22: bitte ein "x" setzen:
B23: Welche der folgenden Handlungsfelder sind im Handlungskonzept berücksichtigt? | D23: Partizipation durch Sprache, Bildung und Beruf
D24: Gleichstellung der Geschlechter
D25: Ehrenamt und bürgerschaftliches Engagement
D26: migrationsgesellschaftliche Öffnung
D27: Bekämpfung von Antisemitismus und Rassismus
D29: bitte eintragen:
B30: Welche Handlungsfelder sind darüber hinaus besonders relevant?
D34: bitte eintragen:
B35: Welche Handlungsfelder sind darüber hinaus besonders herausfordernd?
B39: # ggfs. Erläuterungen bitte hier eintragen
B41: Beteiligung
D42: bitte auswählen:
B43: Waren Sie bei der jährlichen Fachtagung vertreten?
D44: bitte auswählen:
B45: An wie vielen dieser Fortbildungen haben Sie teilgenommen?
D46: bitte auswählen:
B47: Haben Sie im Bewilligungszeitraum an mindestens zwei KMN Sitzungen teilgenommen?
B49: # ggfs. Erläuterungen bitte hier eintragen
B51: Weitere Aufgaben
B53: Wie schätzen Sie den Stand der Umsetzung der jeweiligen Aufgaben in ihrer Gebietskörperschaft ein? Berücksichtigen Sie folgende Skala:
B54: 1 - Die Aufgabe befindet sich noch im Aufbau bzw. konnte bisher nur eingeschränkt umgesetzt werden.
B55: 2 - Erste Umsetzungsansätze sind vorhanden, jedoch noch nicht systematisch.
B56: 3 - Die Aufgabe wird überwiegend umgesetzt, einzelne Aspekte sind weiterzuentwickeln.
...

Sheet Auswertung_DropDown_AUSBLENDEN
B1: Auswertung
G2: Welche der folgenden Handlungsfelder sind im Handlungskonzept berücksichtigt?
B3: Gebietskörperschaft | C3: Innerhalb des Bewilligungszeitraumes ist die Bestandsaufgabe aus dem Vorjahr aktualisiert worden | D3: Wurde seit 2014 ein Handlungskonzept erstellt? | E3: Wurde seit 2014 ein Handlungskonzept fortgeschrieben? | F3: Innerhalb des Bewilligungszeitraumes wurde das Handlungskonzept | G3: Partizipation durch Sprache, Bildung und Beruf | H3: Gleichstellung der Geschlechter | I3: Ehrenamt und bürgerschaftliches Engagement | J3: migrationsgesellschaftliche Öffnung | K3: Bekämpfung von Antisemitismus und Rassismus | L3: Welche Handlungsfelder sind darüber hinaus besonders relevant? | M3: Welche Handlungsfelder sind darüber hinaus besonders herausfordernd? | N3: Waren Sie bei der jährlichen Fachtagung vertreten? | O3: An wie vielen dieser Fortbildungen haben Sie teilgenommen? | P3: Haben Sie im Bewilligungszeitraum an mindestens zwei KMN Sitzungen teilgenommen? | Q3: =Tätigkeitsbericht!B60 -> Bündelung, Koordination und Organisation kommunaler Integrationsaufgaben. | R3: =Tätigkeitsbericht!B64 -> Aufbau und Pflege verbindlicher kooperativer Strukturen mit den Trägern der Integrationsarbeit sowie Zusammenarbeit und Vernetzung mit den Migrantenorganisationen. | S3: =Tätigkeitsbericht!B68 -> Verankerung des Themas „Integration“ in der Öffentlichkeit. | T3: =Tätigkeitsbericht!B72 -> Initiierung und Koordination von Projekten, Veranstaltungen und Maßnahmen. | V3: Besonders relevante Themen | W3: Besonders herausfordernde Themen
B4: =Tätigkeitsbericht!D4 -> 0 | C4: =Tätigkeitsbericht!D10 -> 0 | D4: =Tätigkeitsbericht!D16 -> 0 | E4: =Tätigkeitsbericht!D18 -> 0 | F4: =Tätigkeitsbericht!D20 -> 0 | G4: =COUNTIF(Tätigkeitsbericht!$C23,"<>") -> 0 | H4: =COUNTIF(Tätigkeitsbericht!$C24,"<>") -> 0 | I4: =COUNTIF(Tätigkeitsbericht!$C25,"<>") -> 0 | J4: =COUNTIF(Tätigkeitsbericht!$C26,"<>") -> 0 | K4: =COUNTIF(Tätigkeitsbericht!$C27,"<>") -> 0 | L4: =COUNTA(Tätigkeitsbericht!D30:D32) -> 0 | M4: =COUNTA(Tätigkeitsbericht!D35:D37) -> 0 | N4: =Tätigkeitsbericht!D43 -> 0 | O4: =Tätigkeitsbericht!D45 -> 0 | P4: =Tätigkeitsbericht!D47 -> 0 | Q4: =Tätigkeitsbericht!D60 -> 0 | R4: =Tätigkeitsbericht!D64 -> 0 | S4: =Tätigkeitsbericht!D68 -> 0 | T4: =Tätigkeitsbericht!D72 -> 0 | V4: =Tätigkeitsbericht!D30 -> 0 | W4: =Tätigkeitsbericht!D35 -> 0
V5: =Tätigkeitsbericht!D31 -> 0 | W5: =Tätigkeitsbericht!D36 -> 0
V6: =Tätigkeitsbericht!D32 -> 0 | W6: =Tätigkeitsbericht!D37 -> 0
B8: DropDown
B10: ja
B11: nein
B13: erstmals erstellt.
B14: umgesetzt.
B15: fortgeschrieben.
B18: Partizipation durch Sprache, Bildung und Beruf
B19: Gleichstellung der Geschlechter
B20: Ehrenamt und bürgerschaftliches Engagement
B21: migrationsgesellschaftliche Öffnung
B22: Bekämpfung von Antisemitismus und Rassismus
B24: 1
B25: 2
B27: 1 | C27: 1 - Die Aufgabe befindet sich noch im Aufbau bzw. konnte bisher nur eingeschränkt umgesetzt werden.
B28: 2 | C28: 2 - Erste Umsetzungsansätze sind vorhanden, jedoch noch nicht systematisch.
B29: 3 | C29: 3 - Die Aufgabe wird überwiegend umgesetzt, einzelne Aspekte sind weiterzuentwickeln.
B30: 4 | C30: 4 - Die Aufgabe wird strukturiert und zuverlässig umgesetzt.
B31: 5 | C31: 5 - Die Aufgabe ist vollständig etabliert, wird kontinuierlich reflektiert und optimiert.
