Workbook

Sheet Sachbericht
B2: Anlage zum Verwendungsnachweis Sachbericht im Rahmen der Richtlinie Migrationsberatung
B3: Hinweis: Die Umstellung des Sachberichtes auf ein Excel-Format mit Ankreuzfeldern und kurzen Eintragungsmöglichkeiten soll die Dokumentation im Rahmen des Verwendungsnachweises erleichtern und vereinheitlichen. Die dargestellten Inhalte bilden zugleich eine fachliche Grundlage für erforderliche Evaluierungen und dienen dem Nachweis der zweckentsprechenden Mittelverwendung im zuwendungsrechtlichen Sinne. Der Sachbericht stellt eine inhaltliche Ergänzung zur Arbeitsstatistik dar. Bitte vermeiden Sie daher beschreibende Wiederholungen aus der Arbeitsstatistik.
D4: bitte eintragen:
B5: Name der Beratungsstelle
D6: bitte eintragen:
B7: Aktenzeichen
D8: bitte eintragen:
B9: Bewilligungs-/Berichtszeitraum
D10: bitte eintragen:
B11: Bewilligter Stellenanteil
B13: Beratende Personen
B14: bitte Name, Vorname eintragen: | D14: bitte Name, Vorname eintragen:
B29: Beratungsform/en
D30: bitte ein "x" setzen:
B31: Bitte wählen Sie die bei Ihnen verfügbare/n Beratungsform/en aus: | D31: Offene Sprechstunde
D32: Terminsprechstunde
D33: Digitale Beratung
D34: Aufsuchende Beratung
D35: Barrierefreie Beratungsstelle
B37: Rahmenbedingungen
D38: bitte möglichst in einem Stichpunkt zusammenfassen und eintragen:
B39: Welche regionalen Besonderheiten gab es zu beachten?
D42: bitte möglichst in einem Stichpunkt zusammenfassen und eintragen:
B43: Welche Herausforderungen sind im Projektverlauf aufgetreten?
B47: #Erläuterungen gerne hier eintragen.
B49: Beratungsgespräche
B51: #Tragen Sie hier gerne Ergänzungen zur Arbeitsstatistik ein. Bitte vermeiden Sie beschreibende Wiederholungen aus der Arbeitsstatistik.
B53: Ehrenamt
D54: bitte auswählen:
B55: In welchem Umfang binden Sie Ehrenamtliche in die Erledigung ihrer Aufgaben ein?
B57: #Erläuterungen gerne hier eintragen.
B59: Öffentlichkeits- und Gemeinwesenarbeit
D60: bitte möglichst in einem Stichpunkt zusammenfassen und eintragen:
B61: Welche Themen dominieren die Öffentlichkeits- und Gemeinwesenarbeit?
B65: #Tragen Sie hier gerne Ergänzungen zur Arbeitsstatistik ein. Bitte vermeiden Sie beschreibende Wiederholungen aus der Arbeitsstatistik.
B67: Verwaltung und Fachlichkeit
D68: bitte auswählen:
B69: Hat jede beratende Person im Bewilligungszeitraum an mindestens 2 Fortbildungen teilgenommen?
B70: Hinweis: Diese Frage dient lediglich der Information; aus einer Beantwortung mit „Nein“ ergeben sich keine Nachteile.
B72: #Erläuterungen gerne hier eintragen.
B74: Zusammenfassung, Bewertung und Ausblick
D75: bitte möglichst in einem Stichpunkt zusammenfassen und eintragen:
B76: Welche Themen werden Ihrer Einschätzung nach künftig besonders relevant?
B80: #Erläuterungen zu gerne hier eintragen.
B82: Bestätigung
D83: bitte auswählen:
B84: Darüber hinaus wurde das Projekt entsprechend der Antragsunterlagen durchgeführt:
B86: Datum
B88: gez.

Sheet Auswertung_DropDown_AUSBLENDEN
B1: Auswertung
G2: Beratungsform
B3: Name der Beratungsstelle | C3: Aktenzeichen | D3: Bewilligungs-/Berichtszeitraum | E3: Bewilligter Stellenanteil | F3: Anzahl beratende Personen | G3: Offene Sprechstunde | H3: Terminsprechstunde | I3: Digitale Beratung | J3: Aufsuchende Beratung | K3: Barrierefreie Beratungsstelle | L3: In welchem Umfang binden Sie Ehrenamtliche in die Erledigung ihrer Aufgaben ein? | M3: Hat jede beratende Person im Bewilligungszeitraum an mindestens 2 Fortbildungen teilgenommen? | N3: Darüber hinaus wurde das Projekt entsprechend der Antragsunterlagen durchgeführt: | P3: Welche regionalen Besonderheiten gab es zu beachten? | Q3: Welche Herausforderungen sind im Projektverlauf aufgetreten? | R3: Welche Themen dominieren die Öffentlichkeits- und Gemeinwesenarbeit? | S3: Welche Themen werden Ihrer Einschätzung nach künftig besonders relevant?
B4: =Sachbericht!D5 -> 0 | C4: =Sachbericht!D7 -> 0 | D4: =Sachbericht!D9 -> 0 | E4: =Sachbericht!D11 -> 0 | F4: =COUNTA(Sachbericht!B15:D27) -> 0 | G4: =IF(Sachbericht!$C31<>"",1,0) -> 0 | H4: =IF(Sachbericht!$C32<>"",1,0) -> 0 | I4: =IF(Sachbericht!$C33<>"",1,0) -> 0 | J4: =IF(Sachbericht!$C34<>"",1,0) -> 0 | K4: =IF(Sachbericht!$C35<>"",1,0) -> 0 | L4: =Sachbericht!D55 -> 0 | M4: =Sachbericht!D69 -> 0 | N4: =Sachbericht!D84 -> 0 | P4: =Sachbericht!D39 -> 0 | Q4: =Sachbericht!D43 -> 0 | R4: =Sachbericht!D61 -> 0 | S4: =Sachbericht!D76 -> 0
P5: =Sachbericht!D40 -> 0 | Q5: =Sachbericht!D44 -> 0 | R5: =Sachbericht!D62 -> 0 | S5: =Sachbericht!D77 -> 0
P6: =Sachbericht!D41 -> 0 | Q6: =Sachbericht!D45 -> 0 | R6: =Sachbericht!D63 -> 0 | S6: =Sachbericht!D78 -> 0
B8: DropDown
B10: ja
B11: nein
B13: gar nicht
B14: selten
B15: gelegentlich
B16: häufig
B17: sehr häufig
