Workbook

Sheet Übersicht
B2: Personalbogen
D3: Bitte eintragen:
B4: Aktenzeichen
D5: Bitte Datum eintragen:
B6: Stand
D7: Bitte auswählen:
B8: Die Richtigkeit und Vollständigkeit der gemachten Angaben unter "Übersicht" und "Beschäftigung" wird hiermit versichert.
D9: Bitte eintragen:
B10: Name(n) der vertretungsberechtigte/n Person/en gemäß § 26 BGB
B12: Fachkraft
B13: Name Bitte eintragen | C13: E-Mailadresse | D13: Telefonnumer | E13: Eingruppierung
B14: Name Fachkraft 1
B15: Name Fachkraft 2
B16: Name Fachkraft 3
B17: Name Fachkraft 4
B18: Name Fachkraft 5
B19: Name Fachkraft 6
B20: Name Fachkraft 7
B21: Name Fachkraft 8
B22: Name Fachkraft 9
B23: Name Fachkraft 10
B24: Name Fachkraft 11
B25: Name Fachkraft 12
... B28: Name Fachkraft 15

Sheet Beschäftigung
B2: Beschäftigung
B4: Förderjahr | C4: Monate | D4: =Übersicht!$B14 -> Name Fachkraft 1 | E4: =Übersicht!$B15 -> Name Fachkraft 2 | F4: =Übersicht!$B16 -> Name Fachkraft 3 | G4: =Übersicht!$B17 -> Name Fachkraft 4 | H4: =Übersicht!$B18 -> Name Fachkraft 5 | I4: =Übersicht!$B19 -> Name Fachkraft 6 | J4: =Übersicht!$B20 -> Name Fachkraft 7 | K4: =Übersicht!$B21 -> Name Fachkraft 8 | L4: =Übersicht!$B22 -> Name Fachkraft 9 | M4: =Übersicht!$B23 -> Name Fachkraft 10 | N4: =Übersicht!$B24 -> Name Fachkraft 11 | O4: =Übersicht!$B25 -> Name Fachkraft 12 | P4: =Übersicht!$B26 -> Name Fachkraft 13 | Q4: =Übersicht!$B27 -> Name Fachkraft 14 | R4: =Übersicht!$B28 -> Name Fachkraft 15 | S4: Gesamtstellenanteil
B5: 2027 | C5: Jan. 1. Hälfte | S5: =SUM(Beschäftigung!$D5:$R5) -> 0
B6: 2027 | C6: Jan. 2. Hälfte | S6: =SUM(Beschäftigung!$D6:$R6) -> 0
B7: 2027 | C7: Feb. 1. Hälfte | S7: =SUM(Beschäftigung!$D7:$R7) -> 0
B8: 2027 | C8: Feb. 2. Hälfte | S8: =SUM(Beschäftigung!$D8:$R8) -> 0
B9: 2027 | C9: März 1. Hälfte | S9: =SUM(Beschäftigung!$D9:$R9) -> 0
B10: 2027 | C10: März 2. Hälfte | S10: =SUM(Beschäftigung!$D10:$R10) -> 0
B11: 2027 | C11: April 1. Hälfte | S11: =SUM(Beschäftigung!$D11:$R11) -> 0
B12: 2027 | C12: April 2. Hälfte | S12: =SUM(Beschäftigung!$D12:$R12) -> 0
B13: 2027 | C13: Mai 1. Hälfte | S13: =SUM(Beschäftigung!$D13:$R13) -> 0
B14: 2027 | C14: Mai 2. Hälfte | S14: =SUM(Beschäftigung!$D14:$R14) -> 0
B15: 2027 | C15: Juni 1. Hälfte | S15: =SUM(Beschäftigung!$D15:$R15) -> 0
B16: 2027 | C16: Juni 2. Hälfte | S16: =SUM(Beschäftigung!$D16:$R16) -> 0
... B28: 2027 | C28: Dez. 2. Hälfte | S28: =SUM(Beschäftigung!$D28:$R28) -> 0
B29: Personalausgaben - € - | S29: =SUM(D29:R29) -> 0
B31: 2028 | C31: Jan. 1. Hälfte | S31: =SUM(Beschäftigung!$D31:$R31) -> 0
B32: 2028 | C32: Jan. 2. Hälfte | S32: =SUM(Beschäftigung!$D32:$R32) -> 0
B33: 2028 | C33: Feb. 1. Hälfte | S33: =SUM(Beschäftigung!$D33:$R33) -> 0
B34: 2028 | C34: Feb. 2. Hälfte | S34: =SUM(Beschäftigung!$D34:$R34) -> 0
B35: 2028 | C35: März 1. Hälfte | S35: =SUM(Beschäftigung!$D35:$R35) -> 0
B36: 2028 | C36: März 2. Hälfte | S36: =SUM(Beschäftigung!$D36:$R36) -> 0
B37: 2028 | C37: April 1. Hälfte | S37: =SUM(Beschäftigung!$D37:$R37) -> 0
B38: 2028 | C38: April 2. Hälfte | S38: =SUM(Beschäftigung!$D38:$R38) -> 0
B39: 2028 | C39: Mai 1. Hälfte | S39: =SUM(Beschäftigung!$D39:$R39) -> 0
B40: 2028 | C40: Mai 2. Hälfte | S40: =SUM(Beschäftigung!$D40:$R40) -> 0
B41: 2028 | C41: Juni 1. Hälfte | S41: =SUM(Beschäftigung!$D41:$R41) -> 0
B42: 2028 | C42: Juni 2. Hälfte | S42: =SUM(Beschäftigung!$D42:$R42) -> 0
... B54: 2028 | C54: Dez. 2. Hälfte | S54: =SUM(Beschäftigung!$D54:$R54) -> 0
B55: Personalausgaben - € - | S55: =SUM(D55:R55) -> 0
